BEGIN:VCALENDAR
VERSION:2.0
PRODID:-//People4America - ECPv6.15.20//NONSGML v1.0//EN
CALSCALE:GREGORIAN
METHOD:PUBLISH
X-WR-CALNAME:People4America
X-ORIGINAL-URL:https://people4america.com
X-WR-CALDESC:Events for People4America
REFRESH-INTERVAL;VALUE=DURATION:PT1H
X-Robots-Tag:noindex
X-PUBLISHED-TTL:PT1H
BEGIN:VTIMEZONE
TZID:UTC
BEGIN:STANDARD
TZOFFSETFROM:+0000
TZOFFSETTO:+0000
TZNAME:UTC
DTSTART:20210101T000000
END:STANDARD
END:VTIMEZONE
BEGIN:VEVENT
DTSTART;TZID=UTC:20220802T201600
DTEND;TZID=UTC:20220802T201600
DTSTAMP:20260422T111351
CREATED:20220502T193526Z
LAST-MODIFIED:20220802T201710Z
UID:860-1659471360-1659471360@people4america.com
SUMMARY:There are currently no events
DESCRIPTION:There are currently no events
URL:https://people4america.com/event/sample-event-3/
ATTACH;FMTTYPE=image/jpeg:https://people4america.com/wp-content/uploads/2022/05/event-sample.jpg
END:VEVENT
END:VCALENDAR